{
 "currentVersion": 10.71,
 "serviceDescription": "Version pour ArcGIS 10.5.x et 10.6.x\n(Créé en 10.6.1)",
 "mapName": "Cadastre",
 "description": "Carte Cadastre et Document d'Urbanisme.",
 "copyrightText": "GEOMAP-IMAGIS",
 "supportsDynamicLayers": true,
 "layers": [
  {
   "id": 457,
   "name": "SCAN25",
   "parentLayerId": -1,
   "defaultVisibility": true,
   "subLayerIds": null,
   "minScale": 0,
   "maxScale": 0,
   "type": "Raster Layer"
  }
 ],
 "tables": [],
 "spatialReference": {
  "wkid": 3948,
  "latestWkid": 3948
 },
 "singleFusedMapCache": true,
 "tileInfo": {
  "rows": 256,
  "cols": 256,
  "dpi": 96,
  "format": "JPEG",
  "compressionQuality": 95,
  "origin": {
   "x": 2024651,
   "y": 7229205
  },
  "spatialReference": {
   "wkid": 3948,
   "latestWkid": 3948
  },
  "lods": [
   {
    "level": 0,
    "resolution": 47.625095250190505,
    "scale": 180000
   },
   {
    "level": 1,
    "resolution": 23.812547625095252,
    "scale": 90000
   },
   {
    "level": 2,
    "resolution": 11.906273812547626,
    "scale": 45000
   },
   {
    "level": 3,
    "resolution": 5.953136906273813,
    "scale": 22500
   },
   {
    "level": 4,
    "resolution": 3.3072982812632294,
    "scale": 12500
   }
  ]
 },
 "initialExtent": {
  "xmin": 1976617.4540477993,
  "ymin": 7139154.740227146,
  "xmax": 2052460.2303794834,
  "ymax": 7249136.382737256,
  "spatialReference": {
   "wkid": 3948,
   "latestWkid": 3948
  }
 },
 "fullExtent": {
  "xmin": 2027984.0014497135,
  "ymin": 7190034.497446161,
  "xmax": 2044904.0340901327,
  "ymax": 7224148.020186702,
  "spatialReference": {
   "wkid": 3948,
   "latestWkid": 3948
  }
 },
 "minScale": 180000,
 "maxScale": 12500,
 "minLOD": 0,
 "maxLOD": 4,
 "units": "esriMeters",
 "supportedImageFormatTypes": "PNG32,PNG24,PNG,JPG,DIB,TIFF,EMF,PS,PDF,GIF,SVG,SVGZ,BMP",
 "documentInfo": {
  "Title": "Cadastre",
  "Author": "GEOMAP-IMAGIS",
  "Comments": "Version pour ArcGIS 10.5.x et 10.6.x\n(Créé en 10.6.1)",
  "Subject": "Consultation du Cadastre (Exemple)",
  "Category": "",
  "AntialiasingMode": "None",
  "TextAntialiasingMode": "Force",
  "Keywords": "AP FONCIER,Cadastre"
 },
 "capabilities": "Map,Query,Data",
 "supportedQueryFormats": "JSON, geoJSON",
 "exportTilesAllowed": false,
 "datumTransformations": [
  {
   "geoTransforms": [
    {
     "wkid": 108001,
     "latestWkid": 1241,
     "transformForward": true,
     "name": "NAD_1927_To_NAD_1983_NADCON"
    }
   ]
  },
  {
   "geoTransforms": [
    {
     "wkid": 108001,
     "latestWkid": 1241,
     "transformForward": false,
     "name": "NAD_1927_To_NAD_1983_NADCON"
    }
   ]
  }
 ],
 "supportsDatumTransformation": true,
 "maxRecordCount": 1000,
 "maxImageHeight": 4096,
 "maxImageWidth": 4096,
 "supportedExtensions": ""
}
